{"text_format":"3","workbook":"xlsx","n_sheets":1,"sheets":["Tabelle1"],"not_rendered":{"defined_names":1},"read":"whole","date_system":"1900"}

{"sheet":"Tabelle1","index":0,"n_rows":56,"n_cols":14,"rows_kept":56,"merged":[[0,0,1,8],[2,1,2,5],[3,7,4,8],[4,0,15,0],[7,3,7,5],[10,3,10,5],[11,3,11,5],[12,3,12,5],[16,0,26,0],[16,3,16,5],[17,3,17,5],[21,3,21,5],[23,3,23,5],[27,0,35,0],[29,3,29,5],[34,4,34,5],[36,0,45,0],[36,3,36,5],[42,3,42,5],[45,7,45,8],[46,0,54,0],[50,7,51,8],[55,0,60,0],[55,1,60,5]]}
["Trainingstermine und Dienst Stockschützen Egelhofen 2.Halbjahr 2026"]
[]
[null,"3. Änderung "]
["Monat","Tag","Datum","Stockdienst","Kuchen","Bemerkung","KW"]
["Juli",{"$f":"VLOOKUP(WEEKDAY(C5,2),M$26:N$33,2)","v":"Donnerstag"},"2026-07-02","Kocher",null,null,{"$f":"WEEKNUM(C5,2)","v":27}]
[null,"Samstag","2026-07-04","Hörtnagel T.",null,null,{"$f":"WEEKNUM(C6,2)","v":27}]
[null,"Donnerstag",{"$f":"C5+7","v":"2026-07-09"},"Raddatz",null,null,28]
[null,"Freitag","2026-07-10","Mixed-Runde in Egelhofen ",null,null,{"$f":"WEEKNUM(C9,2)","v":28}]
[null,"Sonntag","2026-07-12","Auer","Platzer M.",null,{"$f":"WEEKNUM(C10,2)","v":29}]
[null,"Donnerstag",{"$f":"C7+7","v":"2026-07-16"},"Maucher",null,null,{"$f":"WEEKNUM(C11,2)","v":29},"Raddatz",null,{"$f":"COUNTIF(D$5:E$58,H10)","v":4}]
[null,{"$f":"VLOOKUP(WEEKDAY(C11,2),M$26:N$33,2)","v":"Freitag"},"2026-07-17","VG-Turnier in Bedernau MIXED, 19:00 Uhr",null,null,{"$f":"WEEKNUM(C14,2)","v":30},"Auer",null,{"$f":"COUNTIF(D$5:E$58,H11)","v":4}]
[null,"Samstag",{"$f":"C11+1","v":"2026-07-18"},"Kinderzelten mit Einweihung TT-Platte",null,null,{"$f":"WEEKNUM(C15,2)","v":30},"Maucher",null,{"$f":"COUNTIF(D$5:E$58,H12)","v":4}]
[null,"Sonntag","2026-07-19","VG-Turnier in Bedernau HERREN, 9:00 Uhr",null,null,{"$f":"WEEKNUM(C16,2)","v":31},"Hörtnagel E.",null,{"$f":"COUNTIF(D$5:E$58,H13)","v":4}]
[null,"Donnerstag",{"$f":"C10+7","v":"2026-07-23"},"Hörtnagel E.",null,null,{"$f":"WEEKNUM(C19,2)","v":31},"Lidel R.",null,{"$f":"COUNTIF(D$5:E$58,H14)","v":4}]
[null,"Samstag",{"$f":"C11+8","v":"2026-07-25"},"Lidel R.",null,null,{"$f":"WEEKNUM(C24,2)","v":33},"Hörtnagel H.",null,{"$f":"COUNTIF(D$5:E$58,H15)","v":4}]
[null,"Donnerstag",{"$f":"C14+7","v":"2026-07-30"},"Hörtnagel H.",null,null,34,"Platzer",null,{"$f":"COUNTIF(D$5:E$58,H16)","v":4}]
["August","Freitag","2026-07-31","Herren-Trainingsrunde in Ettringen",null,null,34,"Ried",null,{"$f":"COUNTIF(D$5:E$58,H17)","v":4}]
[null,"Samstag","2026-08-01","Freundschaftsturnier in Mittelneufnach",null,null,35,"Kocher",null,{"$f":"COUNTIF(D$5:E$58,H18)","v":4}]
[null,"Sonntag",{"$f":"C15+8","v":"2026-08-02"},"Platzer","Lidel S.",null,35,"Hörtnagel T.",null,{"$f":"COUNTIF(D$5:E$58,H19)","v":4}]
[null,"Donnerstag",{"$f":"C16+7","v":"2026-08-06"},"Ried",null,null,36,"Lidel S.",null,{"$f":"COUNTIF(D$7:E$58,H20)","v":1}]
[null,"Samstag",{"$f":"C19+6","v":"2026-08-08"},"Kocher",null,null,36,"Platzer M.",null,{"$f":"COUNTIF(D$7:E$58,H21)","v":1}]
[null,"Sonntag","2026-08-09","Kinder- und Jugendturnier 16:00 Uhr",null,null,{"$f":"WEEKNUM(C32,2)","v":37},"Lidel J.",null,{"$f":"COUNTIF(D$7:E$58,H22)","v":1}]
[null,"Donnerstag",{"$f":"C20+7","v":"2026-08-13"},"Hörtnagel T.",null,null,37,"Ried S.",null,{"$f":"COUNTIF(D$7:E$58,H23)","v":1}]
[null,"Samstag",{"$f":"C21+7","v":"2026-08-15"},"Maria-Himmelfahrtsturnier 18:00 Uhr",null,null,38,"Hörtnagel C.",null,{"$f":"COUNTIF(D$7:E$58,H24)","v":1}]
[null,"Donnerstag",{"$f":"C23+7","v":"2026-08-20"},"Raddatz",null,null,38]
[null,"Samstag",{"$f":"C24+7","v":"2026-08-22"},"Auer",null,null,39,{"$nulls":5},1,"Montag"]
[null,"Donnerstag",{"$f":"C25+7","v":"2026-08-27"},"Maucher",null,null,39,{"$nulls":5},2,"Dienstag"]
["September","Samstag",{"$f":"C26+7","v":"2026-08-29"},"Hörtnagel E.",null,null,40,{"$nulls":5},3,"Mittwoch"]
[null,"Donnerstag","2026-09-03","Lidel R.",null,null,40,{"$nulls":5},4,"Donnerstag"]
[null,"Samstag","2026-09-05","Brotzeitturnier in Mindelzell",null,null,41,{"$nulls":5},5,"Freitag"]
[null,"Sonntag","2026-09-06","Hörtnagel H.","Lidel J.",null,41]
[null,"Donnerstag",{"$f":"C29+7","v":"2026-09-10"},"Platzer",null,null,42,{"$nulls":5},6,"Samstag"]
[null,"Samstag",{"$f":"C30+7","v":"2026-09-12"},"Ried",null,null,42,{"$nulls":5},7,"Sonntag"]
[null,"Donnerstag","2026-09-17","Kocher",null,null,43]
[null,"Samstag","2026-09-19","Hörtnagel T.","Einzelmeistersch. im Mannschaftssp.",null,43]
[null,"Donnerstag","2026-09-24","Raddatz",null,null,44]
["Oktober","Samstag","2026-09-26","Finale Herren-Trainingsrunde 16:00 Uhr",null,null,44]
[null,"Donnerstag","2026-10-01","Auer",null,null,45]
[null,"Sonntag",{"$f":"C37+8","v":"2026-10-04"},"Maucher","Hörtnagel C.",null,45]
[null,"Donnerstag","2026-10-08","Hörtnagel E.",null,null,46,{"$f":"WEEKNUM(C51,2)","v":46}]
[null,"Samstag",{"$f":"C39+6","v":"2026-10-10"},"Lidel R.",null,null,46]
[null,"Donnerstag","2026-10-15","Hörtnagel H.",null,null,47]
[null,{"$f":"VLOOKUP(WEEKDAY(C43,2),M$26:N$33,2)","v":"Samstag"},"2026-10-17","Kirchweihturnier in Pfaffenhausen 8:30",null,null,47]
[null,"Donnerstag","2026-10-22","Platzer",null,null,48]
[null,"Samstag",{"$f":"C43+7","v":"2026-10-24"},"Ried",null,null,48,"Homepage:"]
[null,"Donnerstag","2026-10-29","Kocher",null,null,{"$f":"WEEKNUM(#REF!,2)","v":{"$error":"#REF!"}},"sve-eisstock.de"]
["November","Samstag",{"$f":"C45+7","v":"2026-10-31"},"Hörtnagel T.",null,null,{"$f":"WEEKNUM(#REF!,2)","v":{"$error":"#REF!"}}]
[null,"Donnerstag","2026-11-05","Raddatz",null,null,{"$f":"WEEKNUM(#REF!,2)","v":{"$error":"#REF!"}},"Sonntag","14:00 Uhr"]
[null,"Sonntag",{"$f":"C47+8","v":"2026-11-08"},"Auer","Ried S.",null,{"$f":"WEEKNUM(#REF!,2)","v":{"$error":"#REF!"}},"Samstag","19:00 Uhr"]
[null,"Donnerstag","2026-11-12","Maucher",null,null,{"$f":"WEEKNUM(#REF!,2)","v":{"$error":"#REF!"}},"Donnerstag","19:00 Uhr"]
[null,"Samstag",{"$f":"C49+6","v":"2026-11-14"},"Hörtnagel E.",null,null,{"$f":"WEEKNUM(C56,2)","v":1},"Ich bedanke mich für Eure Mitarbeit!"]
[null,"Donnerstag","2026-11-19","Lidel R.",null,null,{"$f":"WEEKNUM(C57,2)","v":1}]
[null,"Samstag","2026-11-21","Hörtnagel H.",null,null,{"$f":"WEEKNUM(C58,2)","v":1},null,"Tommy"]
[null,"Donnerstag","2026-11-26","Platzer",null,null,{"$f":"WEEKNUM(C59,2)","v":1}]
[null,"Samstag","2026-11-28","Ried"]
["Dez","Weihnachtspause                                    Wir spielen wieder ab Februar"]